BEGIN:VCALENDAR
VERSION:2.0
PRODID:-//Bay Batucada - Brazilian samba drumming band in Hawkes Bay, New Zealand - ECPv6.15.20//NONSGML v1.0//EN
CALSCALE:GREGORIAN
METHOD:PUBLISH
X-ORIGINAL-URL:https://baybatucada.org.nz
X-WR-CALDESC:Events for Bay Batucada - Brazilian samba drumming band in Hawkes Bay, New Zealand
REFRESH-INTERVAL;VALUE=DURATION:PT1H
X-Robots-Tag:noindex
X-PUBLISHED-TTL:PT1H
BEGIN:VTIMEZONE
TZID:Pacific/Auckland
BEGIN:STANDARD
TZOFFSETFROM:+1300
TZOFFSETTO:+1200
TZNAME:NZST
DTSTART:20230401T140000
END:STANDARD
BEGIN:DAYLIGHT
TZOFFSETFROM:+1200
TZOFFSETTO:+1300
TZNAME:NZDT
DTSTART:20230923T140000
END:DAYLIGHT
BEGIN:STANDARD
TZOFFSETFROM:+1300
TZOFFSETTO:+1200
TZNAME:NZST
DTSTART:20240406T140000
END:STANDARD
BEGIN:DAYLIGHT
TZOFFSETFROM:+1200
TZOFFSETTO:+1300
TZNAME:NZDT
DTSTART:20240928T140000
END:DAYLIGHT
BEGIN:STANDARD
TZOFFSETFROM:+1300
TZOFFSETTO:+1200
TZNAME:NZST
DTSTART:20250405T140000
END:STANDARD
BEGIN:DAYLIGHT
TZOFFSETFROM:+1200
TZOFFSETTO:+1300
TZNAME:NZDT
DTSTART:20250927T140000
END:DAYLIGHT
END:VTIMEZONE
BEGIN:VEVENT
DTSTART;TZID=Pacific/Auckland:20241207T130000
DTEND;TZID=Pacific/Auckland:20241207T150000
DTSTAMP:20260421T111449
CREATED:20240717T221028Z
LAST-MODIFIED:20241110T233807Z
UID:6621-1733576400-1733583600@baybatucada.org.nz
SUMMARY:Harcourts Christmas Parade 2024
DESCRIPTION:Bay Batucada will perform at the annual Harcourts Christmas Parade in the Napier CBD on Saturday 7th December. \nThe parade begins at 1pm\, followed by a Christmas Fiesta and Napier 150th Commemoration Concert from 2.30pm – 6pm at Napier’s iconic Soundshell.
URL:https://baybatucada.org.nz/event/harcourts-christmas-parade-2024/
LOCATION:Napier CBD
CATEGORIES:ALL BAND EVENT
ATTACH;FMTTYPE=image/jpeg:https://baybatucada.org.nz/wp-content/uploads/2020/10/15195983_10209975041325307_9043121332592526112_o.jpg
END:VEVENT
END:VCALENDAR