BEGIN:VCALENDAR
VERSION:2.0
PRODID:-//Bay Batucada - Brazilian samba drumming band in Hawkes Bay, New Zealand - ECPv6.15.20//NONSGML v1.0//EN
CALSCALE:GREGORIAN
METHOD:PUBLISH
X-WR-CALNAME:Bay Batucada - Brazilian samba drumming band in Hawkes Bay, New Zealand
X-ORIGINAL-URL:https://baybatucada.org.nz
X-WR-CALDESC:Events for Bay Batucada - Brazilian samba drumming band in Hawkes Bay, New Zealand
REFRESH-INTERVAL;VALUE=DURATION:PT1H
X-Robots-Tag:noindex
X-PUBLISHED-TTL:PT1H
BEGIN:VTIMEZONE
TZID:Pacific/Auckland
BEGIN:STANDARD
TZOFFSETFROM:+1300
TZOFFSETTO:+1200
TZNAME:NZST
DTSTART:20230401T140000
END:STANDARD
BEGIN:DAYLIGHT
TZOFFSETFROM:+1200
TZOFFSETTO:+1300
TZNAME:NZDT
DTSTART:20230923T140000
END:DAYLIGHT
BEGIN:STANDARD
TZOFFSETFROM:+1300
TZOFFSETTO:+1200
TZNAME:NZST
DTSTART:20240406T140000
END:STANDARD
BEGIN:DAYLIGHT
TZOFFSETFROM:+1200
TZOFFSETTO:+1300
TZNAME:NZDT
DTSTART:20240928T140000
END:DAYLIGHT
BEGIN:STANDARD
TZOFFSETFROM:+1300
TZOFFSETTO:+1200
TZNAME:NZST
DTSTART:20250405T140000
END:STANDARD
BEGIN:DAYLIGHT
TZOFFSETFROM:+1200
TZOFFSETTO:+1300
TZNAME:NZDT
DTSTART:20250927T140000
END:DAYLIGHT
END:VTIMEZONE
BEGIN:VEVENT
DTSTART;TZID=Pacific/Auckland:20240628T093000
DTEND;TZID=Pacific/Auckland:20240628T094500
DTSTAMP:20260421T204858
CREATED:20240317T230230Z
LAST-MODIFIED:20240902T040525Z
UID:6427-1719567000-1719567900@baybatucada.org.nz
SUMMARY:Matariki @ Ātea-a-rangi Star Compass
DESCRIPTION:Bay Batucada will be a part of the entertainment at the Ātea-a-rangi Star Compass at Matariki 2024.
URL:https://baybatucada.org.nz/event/matariki-atea-a-rangi-star-compass/
LOCATION:Waitangi Regional Park\, 363 State Highway 51\, Clive
CATEGORIES:Performance Group Event
ATTACH;FMTTYPE=image/jpeg:https://baybatucada.org.nz/wp-content/uploads/2023/11/HBT-MaoriCulture-AteaARangi-1500x750-1.jpg
END:VEVENT
BEGIN:VEVENT
DTSTART;TZID=Pacific/Auckland:20240628T201500
DTEND;TZID=Pacific/Auckland:20240628T203000
DTSTAMP:20260421T204858
CREATED:20240412T005247Z
LAST-MODIFIED:20240902T040531Z
UID:6539-1719605700-1719606600@baybatucada.org.nz
SUMMARY:Matariki @ HB Regional Sports Park
DESCRIPTION:Bay Batucada will be part of celebrations at this year’s Matariki event at the HB Regional Sports Park.\nThanks to Ngati Kahungunu Iwi Inc
URL:https://baybatucada.org.nz/event/matariki-hb-regional-sports-park/
LOCATION:Hawke’s Bay Regional Sports Park\, 42 Percival Road\, Tomoana\, Hastings 4120\, New Zealand
CATEGORIES:Performance Group Event
ATTACH;FMTTYPE=image/jpeg:https://baybatucada.org.nz/wp-content/uploads/2022/05/Matariki-Kahungunu.jpg
END:VEVENT
END:VCALENDAR