BEGIN:VCALENDAR
VERSION:2.0
PRODID:-//Bay Batucada - Brazilian samba drumming band in Hawkes Bay, New Zealand - ECPv6.15.20//NONSGML v1.0//EN
CALSCALE:GREGORIAN
METHOD:PUBLISH
X-ORIGINAL-URL:https://baybatucada.org.nz
X-WR-CALDESC:Events for Bay Batucada - Brazilian samba drumming band in Hawkes Bay, New Zealand
REFRESH-INTERVAL;VALUE=DURATION:PT1H
X-Robots-Tag:noindex
X-PUBLISHED-TTL:PT1H
BEGIN:VTIMEZONE
TZID:Pacific/Auckland
BEGIN:STANDARD
TZOFFSETFROM:+1300
TZOFFSETTO:+1200
TZNAME:NZST
DTSTART:20230401T140000
END:STANDARD
BEGIN:DAYLIGHT
TZOFFSETFROM:+1200
TZOFFSETTO:+1300
TZNAME:NZDT
DTSTART:20230923T140000
END:DAYLIGHT
BEGIN:STANDARD
TZOFFSETFROM:+1300
TZOFFSETTO:+1200
TZNAME:NZST
DTSTART:20240406T140000
END:STANDARD
BEGIN:DAYLIGHT
TZOFFSETFROM:+1200
TZOFFSETTO:+1300
TZNAME:NZDT
DTSTART:20240928T140000
END:DAYLIGHT
BEGIN:STANDARD
TZOFFSETFROM:+1300
TZOFFSETTO:+1200
TZNAME:NZST
DTSTART:20250405T140000
END:STANDARD
BEGIN:DAYLIGHT
TZOFFSETFROM:+1200
TZOFFSETTO:+1300
TZNAME:NZDT
DTSTART:20250927T140000
END:DAYLIGHT
END:VTIMEZONE
BEGIN:VEVENT
DTSTART;VALUE=DATE:20241101
DTEND;VALUE=DATE:20241102
DTSTAMP:20260421T074512
CREATED:20240902T035711Z
LAST-MODIFIED:20241010T024354Z
UID:6676-1730419200-1730505599@baybatucada.org.nz
SUMMARY:Blast in the Park 2024
DESCRIPTION:Havelock North Primary School brings the fireworks to the village\, and Bay Batucada will be there!
URL:https://baybatucada.org.nz/event/blast-in-the-park-2024/
LOCATION:Havelock North\, Havelock North\, New Zealand
CATEGORIES:ALL BAND EVENT
ATTACH;FMTTYPE=image/jpeg:https://baybatucada.org.nz/wp-content/uploads/2024/09/IMG-20231028-WA0002.jpg
END:VEVENT
BEGIN:VEVENT
DTSTART;TZID=Pacific/Auckland:20241110T100000
DTEND;TZID=Pacific/Auckland:20241110T224500
DTSTAMP:20260421T074512
CREATED:20240916T235307Z
LAST-MODIFIED:20240916T235345Z
UID:6683-1731232800-1731278700@baybatucada.org.nz
SUMMARY:Hawkes Bay MEGA Walk 2024
DESCRIPTION:Bay Batucada is proud to be supporting the Mitre 10 MEGA Walk\, now in its 15th year!
URL:https://baybatucada.org.nz/event/hawkes-bay-mega-walk-2024/
LOCATION:Pacific Surf Life Saving Club
CATEGORIES:ALL BAND EVENT
ATTACH;FMTTYPE=image/jpeg:https://baybatucada.org.nz/wp-content/uploads/2024/09/DJI_20221113_102827_11-EDIT.jpg
END:VEVENT
BEGIN:VEVENT
DTSTART;VALUE=DATE:20241130
DTEND;VALUE=DATE:20241201
DTSTAMP:20260421T074512
CREATED:20240821T013742Z
LAST-MODIFIED:20241110T222256Z
UID:6660-1732924800-1733011199@baybatucada.org.nz
SUMMARY:Ahuriri Whānau Fest 150
DESCRIPTION:We are excited to be a part of a unique community celebration – Ahuriri Whānau Fest 150 – in November this year.\nThis special event combines beloved DiverCity and Safer Napier events\, and most importantly\, it celebrates the 150th anniversary of the Napier Borough!   \nAhuriri Whānau Fest 150 is a day for our community to come together\, bring a picnic\, and enjoy live entertainment\, delicious food\, cultural displays\, and a showcase of what our local agencies\, schools\, and recreational groups have to offer. And Bay Batucada will be there!
URL:https://baybatucada.org.nz/event/ahuriri-whanau-fest-150/
LOCATION:Anderson Park\, Napier\, Greenmeadows\, Napier\, 4112\, New Zealand
CATEGORIES:ALL BAND EVENT
ATTACH;FMTTYPE=image/png:https://baybatucada.org.nz/wp-content/uploads/2024/08/Whanau-Fest-150.png
END:VEVENT
END:VCALENDAR