BEGIN:VCALENDAR
VERSION:2.0
PRODID:-//Bay Batucada - Brazilian samba drumming band in Hawkes Bay, New Zealand - ECPv6.15.20//NONSGML v1.0//EN
CALSCALE:GREGORIAN
METHOD:PUBLISH
X-ORIGINAL-URL:https://baybatucada.org.nz
X-WR-CALDESC:Events for Bay Batucada - Brazilian samba drumming band in Hawkes Bay, New Zealand
REFRESH-INTERVAL;VALUE=DURATION:PT1H
X-Robots-Tag:noindex
X-PUBLISHED-TTL:PT1H
BEGIN:VTIMEZONE
TZID:Pacific/Auckland
BEGIN:STANDARD
TZOFFSETFROM:+1300
TZOFFSETTO:+1200
TZNAME:NZST
DTSTART:20250405T140000
END:STANDARD
BEGIN:DAYLIGHT
TZOFFSETFROM:+1200
TZOFFSETTO:+1300
TZNAME:NZDT
DTSTART:20250927T140000
END:DAYLIGHT
BEGIN:STANDARD
TZOFFSETFROM:+1300
TZOFFSETTO:+1200
TZNAME:NZST
DTSTART:20260404T140000
END:STANDARD
BEGIN:DAYLIGHT
TZOFFSETFROM:+1200
TZOFFSETTO:+1300
TZNAME:NZDT
DTSTART:20260926T140000
END:DAYLIGHT
BEGIN:STANDARD
TZOFFSETFROM:+1300
TZOFFSETTO:+1200
TZNAME:NZST
DTSTART:20270403T140000
END:STANDARD
BEGIN:DAYLIGHT
TZOFFSETFROM:+1200
TZOFFSETTO:+1300
TZNAME:NZDT
DTSTART:20270925T140000
END:DAYLIGHT
END:VTIMEZONE
BEGIN:VEVENT
DTSTART;TZID=Pacific/Auckland:20260516T100000
DTEND;TZID=Pacific/Auckland:20260516T120000
DTSTAMP:20260420T151448
CREATED:20260318T004948Z
LAST-MODIFIED:20260419T214522Z
UID:7083-1778925600-1778932800@baybatucada.org.nz
SUMMARY:Asics Hawke's Bay Marathon 2026
DESCRIPTION:Keep an ear out for us at Elephant Hill Winery as we welcome marathoners to the finish line!
URL:https://baybatucada.org.nz/event/hawkes-bay-marathon-2026/
LOCATION:Elephant Hill\, 86 Clifton Road\, Te Awanga\, New Zealand
CATEGORIES:ALL BAND EVENT
ATTACH;FMTTYPE=image/jpeg:https://baybatucada.org.nz/wp-content/uploads/2021/08/FB_IMG_1629193583242.jpg
END:VEVENT
BEGIN:VEVENT
DTSTART;TZID=Pacific/Auckland:20260530T170000
DTEND;TZID=Pacific/Auckland:20260530T173000
DTSTAMP:20260420T151448
CREATED:20260318T012441Z
LAST-MODIFIED:20260407T004009Z
UID:7091-1780160400-1780162200@baybatucada.org.nz
SUMMARY:Glow Orange Night Walk for Cranford Hospice 2026
DESCRIPTION:We’re delighted to be at the starting line for this event for the Cranford Hospice Hawke’s Bay.
URL:https://baybatucada.org.nz/event/glow-orange-night-walk-for-cranford-hospice-2026/
LOCATION:Perfume Point\, 46 Nelson Quay\, Ahuriri\, Napier\, New Zealand
CATEGORIES:ALL BAND EVENT
ATTACH;FMTTYPE=image/jpeg:https://baybatucada.org.nz/wp-content/uploads/2026/03/tempFileForShare_20260318-135554.jpg
END:VEVENT
BEGIN:VEVENT
DTSTART;TZID=Pacific/Auckland:20260919T130000
DTEND;TZID=Pacific/Auckland:20260919T140000
DTSTAMP:20260420T151448
CREATED:20260407T004312Z
LAST-MODIFIED:20260407T004319Z
UID:7114-1789822800-1789826400@baybatucada.org.nz
SUMMARY:Hastings Blossom Parade 2026
DESCRIPTION:We’re back to celebrate with all the amazing groups and floats at this year’s Hastings Blossom Parade!
URL:https://baybatucada.org.nz/event/hastings-blossom-parade-2026/
LOCATION:Hastings CBD
CATEGORIES:ALL BAND EVENT
ATTACH;FMTTYPE=image/jpeg:https://baybatucada.org.nz/wp-content/uploads/2025/07/Napier-Xmas-Parade-2025.jpg
END:VEVENT
END:VCALENDAR