BEGIN:VCALENDAR
VERSION:2.0
PRODID:-//Bay Batucada - Brazilian samba drumming band in Hawkes Bay, New Zealand - ECPv6.15.20//NONSGML v1.0//EN
CALSCALE:GREGORIAN
METHOD:PUBLISH
X-WR-CALNAME:Bay Batucada - Brazilian samba drumming band in Hawkes Bay, New Zealand
X-ORIGINAL-URL:https://baybatucada.org.nz
X-WR-CALDESC:Events for Bay Batucada - Brazilian samba drumming band in Hawkes Bay, New Zealand
REFRESH-INTERVAL;VALUE=DURATION:PT1H
X-Robots-Tag:noindex
X-PUBLISHED-TTL:PT1H
BEGIN:VTIMEZONE
TZID:Pacific/Auckland
BEGIN:STANDARD
TZOFFSETFROM:+1300
TZOFFSETTO:+1200
TZNAME:NZST
DTSTART:20230401T140000
END:STANDARD
BEGIN:DAYLIGHT
TZOFFSETFROM:+1200
TZOFFSETTO:+1300
TZNAME:NZDT
DTSTART:20230923T140000
END:DAYLIGHT
BEGIN:STANDARD
TZOFFSETFROM:+1300
TZOFFSETTO:+1200
TZNAME:NZST
DTSTART:20240406T140000
END:STANDARD
BEGIN:DAYLIGHT
TZOFFSETFROM:+1200
TZOFFSETTO:+1300
TZNAME:NZDT
DTSTART:20240928T140000
END:DAYLIGHT
BEGIN:STANDARD
TZOFFSETFROM:+1300
TZOFFSETTO:+1200
TZNAME:NZST
DTSTART:20250405T140000
END:STANDARD
BEGIN:DAYLIGHT
TZOFFSETFROM:+1200
TZOFFSETTO:+1300
TZNAME:NZDT
DTSTART:20250927T140000
END:DAYLIGHT
END:VTIMEZONE
BEGIN:VEVENT
DTSTART;TZID=Pacific/Auckland:20240407T133000
DTEND;TZID=Pacific/Auckland:20240407T163000
DTSTAMP:20260425T035725
CREATED:20240401T235800Z
LAST-MODIFIED:20240902T040507Z
UID:6531-1712496600-1712507400@baybatucada.org.nz
SUMMARY:Live Music at Hygge Cafe Clifton\, Te Awanga
DESCRIPTION:Bay Batucada and the HB Soul Choir will be performing at Hygge café on Sunday afternoon\, serenading the end of summer!
URL:https://baybatucada.org.nz/event/hygge-2024/
LOCATION:Hygge at Clifton Bay\, 468 Clifton Road\, Te Awanga\, 4180
CATEGORIES:Performance Group Event
ATTACH;FMTTYPE=image/jpeg:https://baybatucada.org.nz/wp-content/uploads/2024/04/65f39b08107455e5bab130f6_Soul-Choir-and-Bay-Batacuda-Poster-p-1080.jpg
END:VEVENT
END:VCALENDAR