BEGIN:VCALENDAR
VERSION:2.0
PRODID:-//Bay Batucada - Brazilian samba drumming band in Hawkes Bay, New Zealand - ECPv6.15.20//NONSGML v1.0//EN
CALSCALE:GREGORIAN
METHOD:PUBLISH
X-WR-CALNAME:Bay Batucada - Brazilian samba drumming band in Hawkes Bay, New Zealand
X-ORIGINAL-URL:https://baybatucada.org.nz
X-WR-CALDESC:Events for Bay Batucada - Brazilian samba drumming band in Hawkes Bay, New Zealand
REFRESH-INTERVAL;VALUE=DURATION:PT1H
X-Robots-Tag:noindex
X-PUBLISHED-TTL:PT1H
BEGIN:VTIMEZONE
TZID:Pacific/Auckland
BEGIN:STANDARD
TZOFFSETFROM:+1300
TZOFFSETTO:+1200
TZNAME:NZST
DTSTART:20210403T140000
END:STANDARD
BEGIN:DAYLIGHT
TZOFFSETFROM:+1200
TZOFFSETTO:+1300
TZNAME:NZDT
DTSTART:20210925T140000
END:DAYLIGHT
BEGIN:STANDARD
TZOFFSETFROM:+1300
TZOFFSETTO:+1200
TZNAME:NZST
DTSTART:20220402T140000
END:STANDARD
BEGIN:DAYLIGHT
TZOFFSETFROM:+1200
TZOFFSETTO:+1300
TZNAME:NZDT
DTSTART:20220924T140000
END:DAYLIGHT
BEGIN:STANDARD
TZOFFSETFROM:+1300
TZOFFSETTO:+1200
TZNAME:NZST
DTSTART:20230401T140000
END:STANDARD
BEGIN:DAYLIGHT
TZOFFSETFROM:+1200
TZOFFSETTO:+1300
TZNAME:NZDT
DTSTART:20230923T140000
END:DAYLIGHT
END:VTIMEZONE
BEGIN:VEVENT
DTSTART;TZID=Pacific/Auckland:20221015T183000
DTEND;TZID=Pacific/Auckland:20221015T210000
DTSTAMP:20260426T071940
CREATED:20220917T012331Z
LAST-MODIFIED:20240902T040414Z
UID:5877-1665858600-1665867600@baybatucada.org.nz
SUMMARY:Nuit Blanche - Hawkes Bay Arts Festival
DESCRIPTION:Watch Bay Batucada light up the Napier CBD for Nuit Blanche – Art After Dark as part of the Hawke’s Bay Arts Festival. \n\n6:30pm from MTG on Tennyson Street\n8:00pm from CAN (Creative Arts Napier)
URL:https://baybatucada.org.nz/event/nuit-blanche-hawkes-bay-arts-festival/
LOCATION:Napier CBD
CATEGORIES:Performance Group Event
ATTACH;FMTTYPE=image/jpeg:https://baybatucada.org.nz/wp-content/uploads/2021/07/whitenight2.jpg
END:VEVENT
END:VCALENDAR