BEGIN:VCALENDAR
VERSION:2.0
PRODID:-//Bay Batucada - Brazilian samba drumming band in Hawkes Bay, New Zealand - ECPv6.15.20//NONSGML v1.0//EN
CALSCALE:GREGORIAN
METHOD:PUBLISH
X-ORIGINAL-URL:https://baybatucada.org.nz
X-WR-CALDESC:Events for Bay Batucada - Brazilian samba drumming band in Hawkes Bay, New Zealand
REFRESH-INTERVAL;VALUE=DURATION:PT1H
X-Robots-Tag:noindex
X-PUBLISHED-TTL:PT1H
BEGIN:VTIMEZONE
TZID:Pacific/Auckland
BEGIN:STANDARD
TZOFFSETFROM:+1300
TZOFFSETTO:+1200
TZNAME:NZST
DTSTART:20220402T140000
END:STANDARD
BEGIN:DAYLIGHT
TZOFFSETFROM:+1200
TZOFFSETTO:+1300
TZNAME:NZDT
DTSTART:20220924T140000
END:DAYLIGHT
BEGIN:STANDARD
TZOFFSETFROM:+1300
TZOFFSETTO:+1200
TZNAME:NZST
DTSTART:20230401T140000
END:STANDARD
BEGIN:DAYLIGHT
TZOFFSETFROM:+1200
TZOFFSETTO:+1300
TZNAME:NZDT
DTSTART:20230923T140000
END:DAYLIGHT
BEGIN:STANDARD
TZOFFSETFROM:+1300
TZOFFSETTO:+1200
TZNAME:NZST
DTSTART:20240406T140000
END:STANDARD
BEGIN:DAYLIGHT
TZOFFSETFROM:+1200
TZOFFSETTO:+1300
TZNAME:NZDT
DTSTART:20240928T140000
END:DAYLIGHT
END:VTIMEZONE
BEGIN:VEVENT
DTSTART;TZID=Pacific/Auckland:20231202T110000
DTEND;TZID=Pacific/Auckland:20231202T114500
DTSTAMP:20260425T083116
CREATED:20230827T024526Z
LAST-MODIFIED:20240902T040510Z
UID:6360-1701514800-1701517500@baybatucada.org.nz
SUMMARY:Sanctuary Sounds
DESCRIPTION:We are looking ahead to the sunny Hawkes Bay summer we’ve all missed this past season\, so this year’s theme is: ESCAPE TO SANCTUARY ISLAND!! \nThink golden sand\, palm trees\, pina coladas and those little bamboo umbrellas in your drink! OH\, and lots and lots of sunshine!
URL:https://baybatucada.org.nz/event/sanctuary-sounds/
LOCATION:Takapau CHB\, Takapau\, CHB\, New Zealand
CATEGORIES:Performance Group Event
ATTACH;FMTTYPE=image/png:https://baybatucada.org.nz/wp-content/uploads/2022/07/www.regenerationproductions.org-SS2020-25.png
END:VEVENT
END:VCALENDAR