BEGIN:VCALENDAR
VERSION:2.0
PRODID:-//Bay Batucada - Brazilian samba drumming band in Hawkes Bay, New Zealand - ECPv6.15.20//NONSGML v1.0//EN
CALSCALE:GREGORIAN
METHOD:PUBLISH
X-ORIGINAL-URL:https://baybatucada.org.nz
X-WR-CALDESC:Events for Bay Batucada - Brazilian samba drumming band in Hawkes Bay, New Zealand
REFRESH-INTERVAL;VALUE=DURATION:PT1H
X-Robots-Tag:noindex
X-PUBLISHED-TTL:PT1H
BEGIN:VTIMEZONE
TZID:Pacific/Auckland
BEGIN:STANDARD
TZOFFSETFROM:+1300
TZOFFSETTO:+1200
TZNAME:NZST
DTSTART:20210403T140000
END:STANDARD
BEGIN:DAYLIGHT
TZOFFSETFROM:+1200
TZOFFSETTO:+1300
TZNAME:NZDT
DTSTART:20210925T140000
END:DAYLIGHT
BEGIN:STANDARD
TZOFFSETFROM:+1300
TZOFFSETTO:+1200
TZNAME:NZST
DTSTART:20220402T140000
END:STANDARD
BEGIN:DAYLIGHT
TZOFFSETFROM:+1200
TZOFFSETTO:+1300
TZNAME:NZDT
DTSTART:20220924T140000
END:DAYLIGHT
BEGIN:STANDARD
TZOFFSETFROM:+1300
TZOFFSETTO:+1200
TZNAME:NZST
DTSTART:20230401T140000
END:STANDARD
BEGIN:DAYLIGHT
TZOFFSETFROM:+1200
TZOFFSETTO:+1300
TZNAME:NZDT
DTSTART:20230923T140000
END:DAYLIGHT
END:VTIMEZONE
BEGIN:VEVENT
DTSTART;TZID=Pacific/Auckland:20221203T110000
DTEND;TZID=Pacific/Auckland:20221203T114500
DTSTAMP:20260426T031025
CREATED:20220731T234712Z
LAST-MODIFIED:20240902T040413Z
UID:5859-1670065200-1670067900@baybatucada.org.nz
SUMMARY:Sanctuary Sounds 2022
DESCRIPTION:Bay Batucada is thrilled to be a part of Sanctuary Sounds 2022 this year! \nWe will kick off Saturday morning’s events at 11:00am.
URL:https://baybatucada.org.nz/event/sanctuary-sounds-2022/
LOCATION:Takapau CHB\, Takapau\, CHB\, New Zealand
CATEGORIES:Performance Group Event
ATTACH;FMTTYPE=image/png:https://baybatucada.org.nz/wp-content/uploads/2022/07/www.regenerationproductions.org-SS2020-25.png
END:VEVENT
END:VCALENDAR