BEGIN:VCALENDAR
VERSION:2.0
PRODID:-//Bay Batucada - Brazilian samba drumming band in Hawkes Bay, New Zealand - ECPv6.15.20//NONSGML v1.0//EN
CALSCALE:GREGORIAN
METHOD:PUBLISH
X-ORIGINAL-URL:https://baybatucada.org.nz
X-WR-CALDESC:Events for Bay Batucada - Brazilian samba drumming band in Hawkes Bay, New Zealand
REFRESH-INTERVAL;VALUE=DURATION:PT1H
X-Robots-Tag:noindex
X-PUBLISHED-TTL:PT1H
BEGIN:VTIMEZONE
TZID:Pacific/Auckland
BEGIN:STANDARD
TZOFFSETFROM:+1300
TZOFFSETTO:+1200
TZNAME:NZST
DTSTART:20240406T140000
END:STANDARD
BEGIN:DAYLIGHT
TZOFFSETFROM:+1200
TZOFFSETTO:+1300
TZNAME:NZDT
DTSTART:20240928T140000
END:DAYLIGHT
BEGIN:STANDARD
TZOFFSETFROM:+1300
TZOFFSETTO:+1200
TZNAME:NZST
DTSTART:20250405T140000
END:STANDARD
BEGIN:DAYLIGHT
TZOFFSETFROM:+1200
TZOFFSETTO:+1300
TZNAME:NZDT
DTSTART:20250927T140000
END:DAYLIGHT
BEGIN:STANDARD
TZOFFSETFROM:+1300
TZOFFSETTO:+1200
TZNAME:NZST
DTSTART:20260404T140000
END:STANDARD
BEGIN:DAYLIGHT
TZOFFSETFROM:+1200
TZOFFSETTO:+1300
TZNAME:NZDT
DTSTART:20260926T140000
END:DAYLIGHT
END:VTIMEZONE
BEGIN:VEVENT
DTSTART;TZID=Pacific/Auckland:20250823T180000
DTEND;TZID=Pacific/Auckland:20250823T220000
DTSTAMP:20260422T023436
CREATED:20250623T230733Z
LAST-MODIFIED:20260111T204419Z
UID:6826-1755972000-1755986400@baybatucada.org.nz
SUMMARY:Festa Junina em Agosto 2025
DESCRIPTION:There will be food typical to Brazil\, mulled wine\, games\, a bouncy castle… and Bay Batucada!
URL:https://baybatucada.org.nz/event/festa-junina-em-agosto-2025/
LOCATION:Asher Hall\, 2 Dalton Street\, Napier\, New Zealand
CATEGORIES:ALL BAND EVENT
ATTACH;FMTTYPE=image/png:https://baybatucada.org.nz/wp-content/uploads/2022/07/www.regenerationproductions.org-SS2020-25.png
END:VEVENT
END:VCALENDAR