BEGIN:VCALENDAR
VERSION:2.0
PRODID:-//Bay Batucada - Brazilian samba drumming band in Hawkes Bay, New Zealand - ECPv6.15.20//NONSGML v1.0//EN
CALSCALE:GREGORIAN
METHOD:PUBLISH
X-ORIGINAL-URL:https://baybatucada.org.nz
X-WR-CALDESC:Events for Bay Batucada - Brazilian samba drumming band in Hawkes Bay, New Zealand
REFRESH-INTERVAL;VALUE=DURATION:PT1H
X-Robots-Tag:noindex
X-PUBLISHED-TTL:PT1H
BEGIN:VTIMEZONE
TZID:Pacific/Auckland
BEGIN:STANDARD
TZOFFSETFROM:+1300
TZOFFSETTO:+1200
TZNAME:NZST
DTSTART:20240406T140000
END:STANDARD
BEGIN:DAYLIGHT
TZOFFSETFROM:+1200
TZOFFSETTO:+1300
TZNAME:NZDT
DTSTART:20240928T140000
END:DAYLIGHT
BEGIN:STANDARD
TZOFFSETFROM:+1300
TZOFFSETTO:+1200
TZNAME:NZST
DTSTART:20250405T140000
END:STANDARD
BEGIN:DAYLIGHT
TZOFFSETFROM:+1200
TZOFFSETTO:+1300
TZNAME:NZDT
DTSTART:20250927T140000
END:DAYLIGHT
BEGIN:STANDARD
TZOFFSETFROM:+1300
TZOFFSETTO:+1200
TZNAME:NZST
DTSTART:20260404T140000
END:STANDARD
BEGIN:DAYLIGHT
TZOFFSETFROM:+1200
TZOFFSETTO:+1300
TZNAME:NZDT
DTSTART:20260926T140000
END:DAYLIGHT
END:VTIMEZONE
BEGIN:VEVENT
DTSTART;TZID=Pacific/Auckland:20250427T120000
DTEND;TZID=Pacific/Auckland:20250427T140000
DTSTAMP:20260422T085257
CREATED:20250312T013344Z
LAST-MODIFIED:20260111T204427Z
UID:6759-1745755200-1745762400@baybatucada.org.nz
SUMMARY:Mass performance with Unidos da Cacatua
DESCRIPTION:On Sunday afternoon\, Bay Batucada will join samba bands from all over Australia to form “Unidos da Cacatua” for an unforgettable show right on the Adelaide beachfront. \nThis is part of Bay Batucada’s very first trip across the ditch. It’s going to be an epic weekend!
URL:https://baybatucada.org.nz/event/mass-performance-with-unidos-da-cacatua/
LOCATION:Moseley Square\, 1 Moseley Square\, Glenelg\, SA\, 5045\, Australia
CATEGORIES:Performance Group Event
ATTACH;FMTTYPE=image/png:https://baybatucada.org.nz/wp-content/uploads/2025/03/cacatua_logo.png
END:VEVENT
END:VCALENDAR