BEGIN:VCALENDAR
VERSION:2.0
PRODID:-//Bay Batucada - Brazilian samba drumming band in Hawkes Bay, New Zealand - ECPv6.15.20//NONSGML v1.0//EN
CALSCALE:GREGORIAN
METHOD:PUBLISH
X-WR-CALNAME:Bay Batucada - Brazilian samba drumming band in Hawkes Bay, New Zealand
X-ORIGINAL-URL:https://baybatucada.org.nz
X-WR-CALDESC:Events for Bay Batucada - Brazilian samba drumming band in Hawkes Bay, New Zealand
REFRESH-INTERVAL;VALUE=DURATION:PT1H
X-Robots-Tag:noindex
X-PUBLISHED-TTL:PT1H
BEGIN:VTIMEZONE
TZID:Pacific/Auckland
BEGIN:STANDARD
TZOFFSETFROM:+1300
TZOFFSETTO:+1200
TZNAME:NZST
DTSTART:20240406T140000
END:STANDARD
BEGIN:DAYLIGHT
TZOFFSETFROM:+1200
TZOFFSETTO:+1300
TZNAME:NZDT
DTSTART:20240928T140000
END:DAYLIGHT
BEGIN:STANDARD
TZOFFSETFROM:+1300
TZOFFSETTO:+1200
TZNAME:NZST
DTSTART:20250405T140000
END:STANDARD
BEGIN:DAYLIGHT
TZOFFSETFROM:+1200
TZOFFSETTO:+1300
TZNAME:NZDT
DTSTART:20250927T140000
END:DAYLIGHT
BEGIN:STANDARD
TZOFFSETFROM:+1300
TZOFFSETTO:+1200
TZNAME:NZST
DTSTART:20260404T140000
END:STANDARD
BEGIN:DAYLIGHT
TZOFFSETFROM:+1200
TZOFFSETTO:+1300
TZNAME:NZDT
DTSTART:20260926T140000
END:DAYLIGHT
END:VTIMEZONE
BEGIN:VEVENT
DTSTART;TZID=Pacific/Auckland:20250426T180000
DTEND;TZID=Pacific/Auckland:20250426T235900
DTSTAMP:20260422T085155
CREATED:20250116T231401Z
LAST-MODIFIED:20250312T013437Z
UID:6713-1745690400-1745711940@baybatucada.org.nz
SUMMARY:Adelaide Samba Encontro
DESCRIPTION:Get ready\, South Australia! This ANZAC Day weekend\, Bay Batucada will make our very first trip across the ditch! \nOn Saturday night\, we will perform at the Adelaide Samba Encontro at Port Adelaide. For more information and tickets\, go to adelaidesambaencontro.info. \nThe fun continues on Sunday\, when we will form part of a massive united samba orchestra “Unidos da Cacatua” for an unforgettable show on the beachfront.\nFor more information about Sunday\, go to: baybatucada.org.nz/event/mass-performance-with-unidos-da-cacatua/ \nIt’s going to be an epic weekend!
URL:https://baybatucada.org.nz/event/adelaide-samba-encontro/
LOCATION:The Flour Shed / HARTS MILL\, 9A Mundy St\, Port Adelaide\, Adelaide\, SA\, 5015\, Australia
CATEGORIES:Performance Group Event
ATTACH;FMTTYPE=image/jpeg:https://baybatucada.org.nz/wp-content/uploads/2024/04/435313828_964507665340899_6923550104157848361_n.jpg
END:VEVENT
END:VCALENDAR